    BEGIN:VCALENDAR
VERSION:2.0
PRODID:-//Sydney Amateur Sailing Club - ECPv6.15.20//NONSGML v1.0//EN
CALSCALE:GREGORIAN
METHOD:PUBLISH
X-ORIGINAL-URL:https://sasc.com.au
X-WR-CALDESC:Events for Sydney Amateur Sailing Club
REFRESH-INTERVAL;VALUE=DURATION:PT1H
X-Robots-Tag:noindex
X-PUBLISHED-TTL:PT1H
BEGIN:VTIMEZONE
TZID:Australia/Sydney
BEGIN:STANDARD
TZOFFSETFROM:+1100
TZOFFSETTO:+1000
TZNAME:AEST
DTSTART:20250405T160000
END:STANDARD
BEGIN:DAYLIGHT
TZOFFSETFROM:+1000
TZOFFSETTO:+1100
TZNAME:AEDT
DTSTART:20251004T160000
END:DAYLIGHT
BEGIN:STANDARD
TZOFFSETFROM:+1100
TZOFFSETTO:+1000
TZNAME:AEST
DTSTART:20260404T160000
END:STANDARD
BEGIN:DAYLIGHT
TZOFFSETFROM:+1000
TZOFFSETTO:+1100
TZNAME:AEDT
DTSTART:20261003T160000
END:DAYLIGHT
BEGIN:STANDARD
TZOFFSETFROM:+1100
TZOFFSETTO:+1000
TZNAME:AEST
DTSTART:20270403T160000
END:STANDARD
BEGIN:DAYLIGHT
TZOFFSETFROM:+1000
TZOFFSETTO:+1100
TZNAME:AEDT
DTSTART:20271002T160000
END:DAYLIGHT
END:VTIMEZONE
BEGIN:VEVENT
DTSTART;TZID=Australia/Sydney:20260501T080000
DTEND;TZID=Australia/Sydney:20260501T110000
DTSTAMP:20260421T214555
CREATED:20260213T020308Z
LAST-MODIFIED:20260218T061755Z
UID:10000395-1777622400-1777633200@sasc.com.au
SUMMARY:Winter Season Opening Party
DESCRIPTION:« All Events\n 				\n				\n				\n				\n					\n	Winter Series 2026				\n				\n				\n				\n					\n		\n			July 18\n\n	\n\n	  @  \n\n\n10:00 am\n\n		\n\n\n\n	\n	  -  \n\n5:00 pm\n\n\n\n	\n				\n				\n					\n		\n					\n		\n		\n					\n		\n				\n				\n									The Winter Series will consist of 6 races over May to July There will be Spinnaker and non Spinnaker divisions 								\n				\n				\n		\n				\n				\n					\n	\n				\n				\n				\n					\n				\n		\n					\n				\n				\n							\n			\n						\n		\n						\n				\n					\n				\n		\n					\n				\n				\n					\n	\n		\n\n				Winter Series 2026	\n\n\n		\n	\n		Gaffers Day - 11th October 2026
URL:https://sasc.com.au/event/winter-season-opening-party-2/
LOCATION:Sydney Amateur Sailing Club
CATEGORIES:Opening Season
ATTACH;FMTTYPE=image/jpeg:https://sasc.com.au/wp-content/uploads/partysmall.jpg
ORGANIZER;CN="Sydney Amateur Sailing Club":MAILTO:office@sasc.com.au
END:VEVENT
BEGIN:VEVENT
DTSTART;TZID=Australia/Sydney:20260502T000000
DTEND;TZID=Australia/Sydney:20260502T070000
DTSTAMP:20260421T214555
CREATED:20260218T064826Z
LAST-MODIFIED:20260322T230122Z
UID:10000419-1777680000-1777705200@sasc.com.au
SUMMARY:Winter Series 2026
DESCRIPTION:« All Events\n 				\n				\n				\n				\n					\n	Winter Series 2026				\n				\n				\n				\n					\n		\n			July 18\n\n	\n\n	  @  \n\n\n10:00 am\n\n		\n\n\n\n	\n	  -  \n\n5:00 pm\n\n\n\n	\n				\n				\n					\n		\n					\n		\n		\n					\n		\n				\n				\n									The Winter Series will consist of 6 races over May to July There will be Spinnaker and non Spinnaker divisions 								\n				\n				\n		\n				\n				\n					\n	\n				\n				\n				\n					\n				\n		\n					\n				\n				\n							\n			\n						\n		\n						\n				\n					\n				\n		\n					\n				\n				\n					\n	\n		\n\n				Winter Series 2026	\n\n\n		\n	\n		Gaffers Day - 11th October 2026
URL:https://sasc.com.au/event/winter-series-2026/
LOCATION:Sydney Amateur Sailing Club
ATTACH;FMTTYPE=image/jpeg:https://sasc.com.au/wp-content/uploads/RPEYC_2025Nov30_Women_0105.jpg
ORGANIZER;CN="Sydney Amateur Sailing Club":MAILTO:office@sasc.com.au
END:VEVENT
BEGIN:VEVENT
DTSTART;TZID=Australia/Sydney:20260516T000000
DTEND;TZID=Australia/Sydney:20260516T070000
DTSTAMP:20260421T214555
CREATED:20260322T230352Z
LAST-MODIFIED:20260322T230515Z
UID:10000433-1778889600-1778914800@sasc.com.au
SUMMARY:Winter Series 2026
DESCRIPTION:« All Events\n 				\n				\n				\n				\n					\n	Winter Series 2026				\n				\n				\n				\n					\n		\n			July 18\n\n	\n\n	  @  \n\n\n10:00 am\n\n		\n\n\n\n	\n	  -  \n\n5:00 pm\n\n\n\n	\n				\n				\n					\n		\n					\n		\n		\n					\n		\n				\n				\n									The Winter Series will consist of 6 races over May to July There will be Spinnaker and non Spinnaker divisions 								\n				\n				\n		\n				\n				\n					\n	\n				\n				\n				\n					\n				\n		\n					\n				\n				\n							\n			\n						\n		\n						\n				\n					\n				\n		\n					\n				\n				\n					\n	\n		\n\n				Winter Series 2026	\n\n\n		\n	\n		Gaffers Day - 11th October 2026
URL:https://sasc.com.au/event/winter-series-2026-3/
LOCATION:Sydney Amateur Sailing Club
ATTACH;FMTTYPE=image/jpeg:https://sasc.com.au/wp-content/uploads/RPEYC_2025Nov30_Women_0105.jpg
ORGANIZER;CN="Sydney Amateur Sailing Club":MAILTO:office@sasc.com.au
END:VEVENT
BEGIN:VEVENT
DTSTART;TZID=Australia/Sydney:20260530T000000
DTEND;TZID=Australia/Sydney:20260530T070000
DTSTAMP:20260421T214555
CREATED:20260322T231529Z
LAST-MODIFIED:20260322T231734Z
UID:10000436-1780099200-1780124400@sasc.com.au
SUMMARY:Winter Series 2026
DESCRIPTION:« All Events\n 				\n				\n				\n				\n					\n	Winter Series 2026				\n				\n				\n				\n					\n		\n			July 18\n\n	\n\n	  @  \n\n\n10:00 am\n\n		\n\n\n\n	\n	  -  \n\n5:00 pm\n\n\n\n	\n				\n				\n					\n		\n					\n		\n		\n					\n		\n				\n				\n									The Winter Series will consist of 6 races over May to July There will be Spinnaker and non Spinnaker divisions 								\n				\n				\n		\n				\n				\n					\n	\n				\n				\n				\n					\n				\n		\n					\n				\n				\n							\n			\n						\n		\n						\n				\n					\n				\n		\n					\n				\n				\n					\n	\n		\n\n				Winter Series 2026	\n\n\n		\n	\n		Gaffers Day - 11th October 2026
URL:https://sasc.com.au/event/winter-series-2026-4/
LOCATION:Sydney Amateur Sailing Club
ATTACH;FMTTYPE=image/jpeg:https://sasc.com.au/wp-content/uploads/RPEYC_2025Nov30_Women_0105.jpg
ORGANIZER;CN="Sydney Amateur Sailing Club":MAILTO:office@sasc.com.au
END:VEVENT
BEGIN:VEVENT
DTSTART;TZID=Australia/Sydney:20260613T000000
DTEND;TZID=Australia/Sydney:20260613T070000
DTSTAMP:20260421T214555
CREATED:20260322T232240Z
LAST-MODIFIED:20260322T232334Z
UID:10000440-1781308800-1781334000@sasc.com.au
SUMMARY:Winter Series 2026
DESCRIPTION:« All Events\n 				\n				\n				\n				\n					\n	Winter Series 2026				\n				\n				\n				\n					\n		\n			July 18\n\n	\n\n	  @  \n\n\n10:00 am\n\n		\n\n\n\n	\n	  -  \n\n5:00 pm\n\n\n\n	\n				\n				\n					\n		\n					\n		\n		\n					\n		\n				\n				\n									The Winter Series will consist of 6 races over May to July There will be Spinnaker and non Spinnaker divisions 								\n				\n				\n		\n				\n				\n					\n	\n				\n				\n				\n					\n				\n		\n					\n				\n				\n							\n			\n						\n		\n						\n				\n					\n				\n		\n					\n				\n				\n					\n	\n		\n\n				Winter Series 2026	\n\n\n		\n	\n		Gaffers Day - 11th October 2026
URL:https://sasc.com.au/event/winter-series-2026-8/
LOCATION:Sydney Amateur Sailing Club
ATTACH;FMTTYPE=image/jpeg:https://sasc.com.au/wp-content/uploads/RPEYC_2025Nov30_Women_0105.jpg
ORGANIZER;CN="Sydney Amateur Sailing Club":MAILTO:office@sasc.com.au
END:VEVENT
BEGIN:VEVENT
DTSTART;TZID=Australia/Sydney:20260704T000000
DTEND;TZID=Australia/Sydney:20260704T070000
DTSTAMP:20260421T214555
CREATED:20260322T232407Z
LAST-MODIFIED:20260322T232505Z
UID:10000441-1783123200-1783148400@sasc.com.au
SUMMARY:Winter Series 2026
DESCRIPTION:« All Events\n 				\n				\n				\n				\n					\n	Winter Series 2026				\n				\n				\n				\n					\n		\n			July 18\n\n	\n\n	  @  \n\n\n10:00 am\n\n		\n\n\n\n	\n	  -  \n\n5:00 pm\n\n\n\n	\n				\n				\n					\n		\n					\n		\n		\n					\n		\n				\n				\n									The Winter Series will consist of 6 races over May to July There will be Spinnaker and non Spinnaker divisions 								\n				\n				\n		\n				\n				\n					\n	\n				\n				\n				\n					\n				\n		\n					\n				\n				\n							\n			\n						\n		\n						\n				\n					\n				\n		\n					\n				\n				\n					\n	\n		\n\n				Winter Series 2026	\n\n\n		\n	\n		Gaffers Day - 11th October 2026
URL:https://sasc.com.au/event/winter-series-2026-9/
LOCATION:Sydney Amateur Sailing Club
ATTACH;FMTTYPE=image/jpeg:https://sasc.com.au/wp-content/uploads/RPEYC_2025Nov30_Women_0105.jpg
ORGANIZER;CN="Sydney Amateur Sailing Club":MAILTO:office@sasc.com.au
END:VEVENT
BEGIN:VEVENT
DTSTART;TZID=Australia/Sydney:20260718T000000
DTEND;TZID=Australia/Sydney:20260718T070000
DTSTAMP:20260421T214555
CREATED:20260322T232531Z
LAST-MODIFIED:20260322T232637Z
UID:10000442-1784332800-1784358000@sasc.com.au
SUMMARY:Winter Series 2026
DESCRIPTION:« All Events\n 				\n				\n				\n				\n					\n	Winter Series 2026				\n				\n				\n				\n					\n		\n			July 18\n\n	\n\n	  @  \n\n\n10:00 am\n\n		\n\n\n\n	\n	  -  \n\n5:00 pm\n\n\n\n	\n				\n				\n					\n		\n					\n		\n		\n					\n		\n				\n				\n									The Winter Series will consist of 6 races over May to July There will be Spinnaker and non Spinnaker divisions 								\n				\n				\n		\n				\n				\n					\n	\n				\n				\n				\n					\n				\n		\n					\n				\n				\n							\n			\n						\n		\n						\n				\n					\n				\n		\n					\n				\n				\n					\n	\n		\n\n				Winter Series 2026	\n\n\n		\n	\n		Gaffers Day - 11th October 2026
URL:https://sasc.com.au/event/winter-series-2026-10/
LOCATION:Sydney Amateur Sailing Club
ATTACH;FMTTYPE=image/jpeg:https://sasc.com.au/wp-content/uploads/RPEYC_2025Nov30_Women_0105.jpg
ORGANIZER;CN="Sydney Amateur Sailing Club":MAILTO:office@sasc.com.au
END:VEVENT
BEGIN:VEVENT
DTSTART;TZID=Australia/Sydney:20261010T220000
DTEND;TZID=Australia/Sydney:20261011T070000
DTSTAMP:20260421T214555
CREATED:20260318T011111Z
LAST-MODIFIED:20260419T224615Z
UID:10000428-1791669600-1791702000@sasc.com.au
SUMMARY:Gaffers Day - 11th October 2026
DESCRIPTION:« All Events\n 				\n				\n				\n				\n					\n	Winter Series 2026				\n				\n				\n				\n					\n		\n			July 18\n\n	\n\n	  @  \n\n\n10:00 am\n\n		\n\n\n\n	\n	  -  \n\n5:00 pm\n\n\n\n	\n				\n				\n					\n		\n					\n		\n		\n					\n		\n				\n				\n									The Winter Series will consist of 6 races over May to July There will be Spinnaker and non Spinnaker divisions 								\n				\n				\n		\n				\n				\n					\n	\n				\n				\n				\n					\n				\n		\n					\n				\n				\n							\n			\n						\n		\n						\n				\n					\n				\n		\n					\n				\n				\n					\n	\n		\n\n				Winter Series 2026	\n\n\n		\n	\n		Gaffers Day - 11th October 2026
URL:https://sasc.com.au/event/gaffers-day-11th-october-2026/
LOCATION:Sydney Amateur Sailing Club
ATTACH;FMTTYPE=image/jpeg:https://sasc.com.au/wp-content/uploads/Kathleen-Gillett_John-Jeremy.jpg
ORGANIZER;CN="Sydney Amateur Sailing Club":MAILTO:office@sasc.com.au
END:VEVENT
END:VCALENDAR