    BEGIN:VCALENDAR
VERSION:2.0
PRODID:-//Sydney Amateur Sailing Club - ECPv6.15.20//NONSGML v1.0//EN
CALSCALE:GREGORIAN
METHOD:PUBLISH
X-ORIGINAL-URL:https://sasc.com.au
X-WR-CALDESC:Events for Sydney Amateur Sailing Club
REFRESH-INTERVAL;VALUE=DURATION:PT1H
X-Robots-Tag:noindex
X-PUBLISHED-TTL:PT1H
BEGIN:VTIMEZONE
TZID:Australia/Sydney
BEGIN:STANDARD
TZOFFSETFROM:+1100
TZOFFSETTO:+1000
TZNAME:AEST
DTSTART:20240406T160000
END:STANDARD
BEGIN:DAYLIGHT
TZOFFSETFROM:+1000
TZOFFSETTO:+1100
TZNAME:AEDT
DTSTART:20241005T160000
END:DAYLIGHT
BEGIN:STANDARD
TZOFFSETFROM:+1100
TZOFFSETTO:+1000
TZNAME:AEST
DTSTART:20250405T160000
END:STANDARD
BEGIN:DAYLIGHT
TZOFFSETFROM:+1000
TZOFFSETTO:+1100
TZNAME:AEDT
DTSTART:20251004T160000
END:DAYLIGHT
BEGIN:STANDARD
TZOFFSETFROM:+1100
TZOFFSETTO:+1000
TZNAME:AEST
DTSTART:20260404T160000
END:STANDARD
BEGIN:DAYLIGHT
TZOFFSETFROM:+1000
TZOFFSETTO:+1100
TZNAME:AEDT
DTSTART:20261003T160000
END:DAYLIGHT
BEGIN:STANDARD
TZOFFSETFROM:+1100
TZOFFSETTO:+1000
TZNAME:AEST
DTSTART:20270403T160000
END:STANDARD
BEGIN:DAYLIGHT
TZOFFSETFROM:+1000
TZOFFSETTO:+1100
TZNAME:AEDT
DTSTART:20271002T160000
END:DAYLIGHT
END:VTIMEZONE
BEGIN:VEVENT
DTSTART;TZID=Australia/Sydney:20260109T220000
DTEND;TZID=Australia/Sydney:20260110T070000
DTSTAMP:20260421T011224
CREATED:20251212T001642Z
LAST-MODIFIED:20260208T214349Z
UID:10000298-1767996000-1768028400@sasc.com.au
SUMMARY:Saturday Pointscore - Summer 2026
DESCRIPTION:The Season 2025-26 Saturday pointscore continues. Divisions include: \n\nClassic Overall Series\nSuper 30 Gold Cup Series\nCavalier 28 Series\nCruiser Racer Series\nMixed Fleet/Sheepstation Series\nCommodores Cup\n\nThe detailled Sailing Program is found HERE \nEntry to the SASC Sailing Season 2025-26 is found HERE
URL:https://sasc.com.au/event/saturday-pointscore-summer-2026/2026-01-10/
LOCATION:Sydney Harbour
ATTACH;FMTTYPE=image/jpeg:https://sasc.com.au/wp-content/uploads/2024/10/Racing-Gallery.jpg
ORGANIZER;CN="Racing":MAILTO:racing@sasc.com.au
END:VEVENT
BEGIN:VEVENT
DTSTART;TZID=Australia/Sydney:20251212T220000
DTEND;TZID=Australia/Sydney:20251213T070000
DTSTAMP:20260421T011224
CREATED:20250922T001146Z
LAST-MODIFIED:20250922T001146Z
UID:10000259-1765576800-1765609200@sasc.com.au
SUMMARY:Saturday Pointscore
DESCRIPTION:The Season 2025-26 Saturday pointscore continues. Divisions include: \n\nClassic Overall Series\nSuper 30 Gold Cup Series\nCavalier 28 Series\nCruiser Racer Series\nMixed Fleet/Sheepstation Series\nCommodores Cup\n\nThe detailled Sailing Program is found HERE \nEntry to the SASC Sailing Season 2025-26 is found HERE
URL:https://sasc.com.au/event/saturday-pointscore/2025-12-13/
LOCATION:Sydney Harbour
ATTACH;FMTTYPE=image/jpeg:https://sasc.com.au/wp-content/uploads/2024/10/Racing-Gallery.jpg
ORGANIZER;CN="Racing":MAILTO:racing@sasc.com.au
END:VEVENT
BEGIN:VEVENT
DTSTART;TZID=Australia/Sydney:20251205T220000
DTEND;TZID=Australia/Sydney:20251206T070000
DTSTAMP:20260421T011224
CREATED:20250922T001146Z
LAST-MODIFIED:20250922T001146Z
UID:10000258-1764972000-1765004400@sasc.com.au
SUMMARY:Saturday Pointscore
DESCRIPTION:The Season 2025-26 Saturday pointscore continues. Divisions include: \n\nClassic Overall Series\nSuper 30 Gold Cup Series\nCavalier 28 Series\nCruiser Racer Series\nMixed Fleet/Sheepstation Series\nCommodores Cup\n\nThe detailled Sailing Program is found HERE \nEntry to the SASC Sailing Season 2025-26 is found HERE
URL:https://sasc.com.au/event/saturday-pointscore/2025-12-06/
LOCATION:Sydney Harbour
ATTACH;FMTTYPE=image/jpeg:https://sasc.com.au/wp-content/uploads/2024/10/Racing-Gallery.jpg
ORGANIZER;CN="Racing":MAILTO:racing@sasc.com.au
END:VEVENT
BEGIN:VEVENT
DTSTART;TZID=Australia/Sydney:20251128T220000
DTEND;TZID=Australia/Sydney:20251129T070000
DTSTAMP:20260421T011224
CREATED:20250922T001146Z
LAST-MODIFIED:20250922T001146Z
UID:10000257-1764367200-1764399600@sasc.com.au
SUMMARY:Saturday Pointscore
DESCRIPTION:The Season 2025-26 Saturday pointscore continues. Divisions include: \n\nClassic Overall Series\nSuper 30 Gold Cup Series\nCavalier 28 Series\nCruiser Racer Series\nMixed Fleet/Sheepstation Series\nCommodores Cup\n\nThe detailled Sailing Program is found HERE \nEntry to the SASC Sailing Season 2025-26 is found HERE
URL:https://sasc.com.au/event/saturday-pointscore/2025-11-29/
LOCATION:Sydney Harbour
ATTACH;FMTTYPE=image/jpeg:https://sasc.com.au/wp-content/uploads/2024/10/Racing-Gallery.jpg
ORGANIZER;CN="Racing":MAILTO:racing@sasc.com.au
END:VEVENT
BEGIN:VEVENT
DTSTART;TZID=Australia/Sydney:20251121T220000
DTEND;TZID=Australia/Sydney:20251122T070000
DTSTAMP:20260421T011224
CREATED:20250922T001146Z
LAST-MODIFIED:20250922T001146Z
UID:10000256-1763762400-1763794800@sasc.com.au
SUMMARY:Saturday Pointscore
DESCRIPTION:The Season 2025-26 Saturday pointscore continues. Divisions include: \n\nClassic Overall Series\nSuper 30 Gold Cup Series\nCavalier 28 Series\nCruiser Racer Series\nMixed Fleet/Sheepstation Series\nCommodores Cup\n\nThe detailled Sailing Program is found HERE \nEntry to the SASC Sailing Season 2025-26 is found HERE
URL:https://sasc.com.au/event/saturday-pointscore/2025-11-22/
LOCATION:Sydney Harbour
ATTACH;FMTTYPE=image/jpeg:https://sasc.com.au/wp-content/uploads/2024/10/Racing-Gallery.jpg
ORGANIZER;CN="Racing":MAILTO:racing@sasc.com.au
END:VEVENT
BEGIN:VEVENT
DTSTART;TZID=Australia/Sydney:20251114T220000
DTEND;TZID=Australia/Sydney:20251115T070000
DTSTAMP:20260421T011224
CREATED:20250922T001146Z
LAST-MODIFIED:20250922T001146Z
UID:10000255-1763157600-1763190000@sasc.com.au
SUMMARY:Saturday Pointscore
DESCRIPTION:The Season 2025-26 Saturday pointscore continues. Divisions include: \n\nClassic Overall Series\nSuper 30 Gold Cup Series\nCavalier 28 Series\nCruiser Racer Series\nMixed Fleet/Sheepstation Series\nCommodores Cup\n\nThe detailled Sailing Program is found HERE \nEntry to the SASC Sailing Season 2025-26 is found HERE
URL:https://sasc.com.au/event/saturday-pointscore/2025-11-15/
LOCATION:Sydney Harbour
ATTACH;FMTTYPE=image/jpeg:https://sasc.com.au/wp-content/uploads/2024/10/Racing-Gallery.jpg
ORGANIZER;CN="Racing":MAILTO:racing@sasc.com.au
END:VEVENT
BEGIN:VEVENT
DTSTART;TZID=Australia/Sydney:20251107T220000
DTEND;TZID=Australia/Sydney:20251108T070000
DTSTAMP:20260421T011224
CREATED:20250922T001146Z
LAST-MODIFIED:20250922T001146Z
UID:10000254-1762552800-1762585200@sasc.com.au
SUMMARY:Saturday Pointscore
DESCRIPTION:The Season 2025-26 Saturday pointscore continues. Divisions include: \n\nClassic Overall Series\nSuper 30 Gold Cup Series\nCavalier 28 Series\nCruiser Racer Series\nMixed Fleet/Sheepstation Series\nCommodores Cup\n\nThe detailled Sailing Program is found HERE \nEntry to the SASC Sailing Season 2025-26 is found HERE
URL:https://sasc.com.au/event/saturday-pointscore/2025-11-08/
LOCATION:Sydney Harbour
ATTACH;FMTTYPE=image/jpeg:https://sasc.com.au/wp-content/uploads/2024/10/Racing-Gallery.jpg
ORGANIZER;CN="Racing":MAILTO:racing@sasc.com.au
END:VEVENT
BEGIN:VEVENT
DTSTART;TZID=Australia/Sydney:20251031T220000
DTEND;TZID=Australia/Sydney:20251101T070000
DTSTAMP:20260421T011224
CREATED:20250922T001146Z
LAST-MODIFIED:20250922T001146Z
UID:10000253-1761948000-1761980400@sasc.com.au
SUMMARY:Saturday Pointscore
DESCRIPTION:The Season 2025-26 Saturday pointscore continues. Divisions include: \n\nClassic Overall Series\nSuper 30 Gold Cup Series\nCavalier 28 Series\nCruiser Racer Series\nMixed Fleet/Sheepstation Series\nCommodores Cup\n\nThe detailled Sailing Program is found HERE \nEntry to the SASC Sailing Season 2025-26 is found HERE
URL:https://sasc.com.au/event/saturday-pointscore/2025-11-01/
LOCATION:Sydney Harbour
ATTACH;FMTTYPE=image/jpeg:https://sasc.com.au/wp-content/uploads/2024/10/Racing-Gallery.jpg
ORGANIZER;CN="Racing":MAILTO:racing@sasc.com.au
END:VEVENT
BEGIN:VEVENT
DTSTART;TZID=Australia/Sydney:20251024T220000
DTEND;TZID=Australia/Sydney:20251025T070000
DTSTAMP:20260421T011224
CREATED:20250922T001146Z
LAST-MODIFIED:20250922T001146Z
UID:10000252-1761343200-1761375600@sasc.com.au
SUMMARY:Saturday Pointscore
DESCRIPTION:The Season 2025-26 Saturday pointscore continues. Divisions include: \n\nClassic Overall Series\nSuper 30 Gold Cup Series\nCavalier 28 Series\nCruiser Racer Series\nMixed Fleet/Sheepstation Series\nCommodores Cup\n\nThe detailled Sailing Program is found HERE \nEntry to the SASC Sailing Season 2025-26 is found HERE
URL:https://sasc.com.au/event/saturday-pointscore/2025-10-25/
LOCATION:Sydney Harbour
ATTACH;FMTTYPE=image/jpeg:https://sasc.com.au/wp-content/uploads/2024/10/Racing-Gallery.jpg
ORGANIZER;CN="Racing":MAILTO:racing@sasc.com.au
END:VEVENT
BEGIN:VEVENT
DTSTART;TZID=Australia/Sydney:20251017T220000
DTEND;TZID=Australia/Sydney:20251018T070000
DTSTAMP:20260421T011224
CREATED:20250922T001146Z
LAST-MODIFIED:20250922T001146Z
UID:10000251-1760738400-1760770800@sasc.com.au
SUMMARY:Saturday Pointscore
DESCRIPTION:The Season 2025-26 Saturday pointscore continues. Divisions include: \n\nClassic Overall Series\nSuper 30 Gold Cup Series\nCavalier 28 Series\nCruiser Racer Series\nMixed Fleet/Sheepstation Series\nCommodores Cup\n\nThe detailled Sailing Program is found HERE \nEntry to the SASC Sailing Season 2025-26 is found HERE
URL:https://sasc.com.au/event/saturday-pointscore/2025-10-18/
LOCATION:Sydney Harbour
ATTACH;FMTTYPE=image/jpeg:https://sasc.com.au/wp-content/uploads/2024/10/Racing-Gallery.jpg
ORGANIZER;CN="Racing":MAILTO:racing@sasc.com.au
END:VEVENT
BEGIN:VEVENT
DTSTART;TZID=Australia/Sydney:20251010T220000
DTEND;TZID=Australia/Sydney:20251011T070000
DTSTAMP:20260421T011224
CREATED:20250922T001146Z
LAST-MODIFIED:20250922T001146Z
UID:10000250-1760133600-1760166000@sasc.com.au
SUMMARY:Saturday Pointscore
DESCRIPTION:The Season 2025-26 Saturday pointscore continues. Divisions include: \n\nClassic Overall Series\nSuper 30 Gold Cup Series\nCavalier 28 Series\nCruiser Racer Series\nMixed Fleet/Sheepstation Series\nCommodores Cup\n\nThe detailled Sailing Program is found HERE \nEntry to the SASC Sailing Season 2025-26 is found HERE
URL:https://sasc.com.au/event/saturday-pointscore/2025-10-11/
LOCATION:Sydney Harbour
ATTACH;FMTTYPE=image/jpeg:https://sasc.com.au/wp-content/uploads/2024/10/Racing-Gallery.jpg
ORGANIZER;CN="Racing":MAILTO:racing@sasc.com.au
END:VEVENT
BEGIN:VEVENT
DTSTART;TZID=Australia/Sydney:20250927T220000
DTEND;TZID=Australia/Sydney:20250928T070000
DTSTAMP:20260421T011224
CREATED:20250921T235705Z
LAST-MODIFIED:20251218T212254Z
UID:10000239-1759010400-1759042800@sasc.com.au
SUMMARY:Sydney Harbpur Womens Keelboat Series
DESCRIPTION:Sydney Harbour Women’s Keelboat Series 2025-26\nThe 2025-26 season is now a seven race series with the Sydney Amateur Sailing Club joining in. One race will be hosted by each club:\n\nCYCA:  28 September\nMHYC:  19 October\nRANSA:  23 November\nSASC:  18 January\nBSC:  1 February\nRSYS:  22 February\nMYC:  22 March\n\nCrews will be able to compete in full female crew or female helm divisions\, as well as nominate spinnaker or non-spinnaker racing. \nSASC is hosting the race on 18th January. Everyone is invited back to the SASC Clubhouse after racing. Even if you can’t sail\, come join us for the social event. Let’s show our support for everyone championing ‘women in sailing’. Looking forward to a fantastic turnout! \nENTER HERE \nEntrants\, Results and Documents HERE
URL:https://sasc.com.au/event/sydney-harbpur-womens-keelboat-series/2025-09-28/
LOCATION:Sydney Harbour
ATTACH;FMTTYPE=image/jpeg:https://sasc.com.au/wp-content/uploads/2025-2026-SHWKS-SASC-.jpg
ORGANIZER;CN="Racing":MAILTO:racing@sasc.com.au
END:VEVENT
BEGIN:VEVENT
DTSTART;TZID=Australia/Sydney:20250905T220000
DTEND;TZID=Australia/Sydney:20250906T070000
DTSTAMP:20260421T011224
CREATED:20250729T215324Z
LAST-MODIFIED:20250729T215411Z
UID:10000229-1757109600-1757142000@sasc.com.au
SUMMARY:Opening Regatta - 6th September 2025
DESCRIPTION:The SASC Sailing Season Opening Regatta will take place on 6th September 2025 \nYachts that are entered in one of the following series are automatically included in the SASC Opening Regatta: \n• Classic Overall Series \n• Super 30 Gold Cup \n• Cavalier 28 Series \n• Cruiser Racer Series. \nNon-Series entry to the Opening Regatta – enter as a Casual to Race 1 of any of the above series. Choose the series that best matches your yacht. \nFurther details and entry are found HERE
URL:https://sasc.com.au/event/opening-regatta-6th-september-2025/
LOCATION:Aust National Maritime Museum\, 1 Green Street\, Cremorne Point\, New South Wales\, 2090\, Australia
ATTACH;FMTTYPE=image/jpeg:https://sasc.com.au/wp-content/uploads/Sydney-Amateur-Sailing-Club-Sydney-Harbour-December-Newsletter-Cover-Image.jpg
ORGANIZER;CN="Racing":MAILTO:racing@sasc.com.au
END:VEVENT
BEGIN:VEVENT
DTSTART;TZID=Australia/Sydney:20250719T110000
DTEND;TZID=Australia/Sydney:20250719T110000
DTSTAMP:20260421T011224
CREATED:20250322T230915Z
LAST-MODIFIED:20250323T042740Z
UID:10000220-1752922800-1752922800@sasc.com.au
SUMMARY:Winter Series 2025
DESCRIPTION:Just when you thought racing was over\, SASC introduces the Winter Series for 2025. \nThe first Winter Series Race is on the 3rd May\, with six races overall during May\, June and July. \nThere are four divisions catering for Classic/Mixed Keelboats and Spinnaker/Non Spinnaker options. \n\nEntry is on-line via SailSys: Enter Here\nWinter Series race documents are found: HERE\n\nAfter the race\, enjoy catching up with skippers and crew back at the clubhouse.  Hot food and beverages will be available from the bar before the prizegiving. \nContact David in the Sailing Office with any queries  02 9953 6597 – email racing@sasc.com.au
URL:https://sasc.com.au/event/winter-series-2025/2025-07-19/
LOCATION:Aust National Maritime Museum\, 1 Green Street\, Cremorne Point\, New South Wales\, 2090\, Australia
CATEGORIES:Racing
ATTACH;FMTTYPE=image/jpeg:https://sasc.com.au/wp-content/uploads/2024/10/interviews-3.jpg
ORGANIZER;CN="Racing":MAILTO:racing@sasc.com.au
END:VEVENT
BEGIN:VEVENT
DTSTART;TZID=Australia/Sydney:20250705T110000
DTEND;TZID=Australia/Sydney:20250705T110000
DTSTAMP:20260421T011224
CREATED:20250322T230915Z
LAST-MODIFIED:20250323T042740Z
UID:10000219-1751713200-1751713200@sasc.com.au
SUMMARY:Winter Series 2025
DESCRIPTION:Just when you thought racing was over\, SASC introduces the Winter Series for 2025. \nThe first Winter Series Race is on the 3rd May\, with six races overall during May\, June and July. \nThere are four divisions catering for Classic/Mixed Keelboats and Spinnaker/Non Spinnaker options. \n\nEntry is on-line via SailSys: Enter Here\nWinter Series race documents are found: HERE\n\nAfter the race\, enjoy catching up with skippers and crew back at the clubhouse.  Hot food and beverages will be available from the bar before the prizegiving. \nContact David in the Sailing Office with any queries  02 9953 6597 – email racing@sasc.com.au
URL:https://sasc.com.au/event/winter-series-2025/2025-07-05/
LOCATION:Aust National Maritime Museum\, 1 Green Street\, Cremorne Point\, New South Wales\, 2090\, Australia
CATEGORIES:Racing
ATTACH;FMTTYPE=image/jpeg:https://sasc.com.au/wp-content/uploads/2024/10/interviews-3.jpg
ORGANIZER;CN="Racing":MAILTO:racing@sasc.com.au
END:VEVENT
BEGIN:VEVENT
DTSTART;TZID=Australia/Sydney:20250614T110000
DTEND;TZID=Australia/Sydney:20250614T110000
DTSTAMP:20260421T011224
CREATED:20250322T230915Z
LAST-MODIFIED:20250323T042740Z
UID:10000218-1749898800-1749898800@sasc.com.au
SUMMARY:Winter Series 2025
DESCRIPTION:Just when you thought racing was over\, SASC introduces the Winter Series for 2025. \nThe first Winter Series Race is on the 3rd May\, with six races overall during May\, June and July. \nThere are four divisions catering for Classic/Mixed Keelboats and Spinnaker/Non Spinnaker options. \n\nEntry is on-line via SailSys: Enter Here\nWinter Series race documents are found: HERE\n\nAfter the race\, enjoy catching up with skippers and crew back at the clubhouse.  Hot food and beverages will be available from the bar before the prizegiving. \nContact David in the Sailing Office with any queries  02 9953 6597 – email racing@sasc.com.au
URL:https://sasc.com.au/event/winter-series-2025/2025-06-14/
LOCATION:Aust National Maritime Museum\, 1 Green Street\, Cremorne Point\, New South Wales\, 2090\, Australia
CATEGORIES:Racing
ATTACH;FMTTYPE=image/jpeg:https://sasc.com.au/wp-content/uploads/2024/10/interviews-3.jpg
ORGANIZER;CN="Racing":MAILTO:racing@sasc.com.au
END:VEVENT
BEGIN:VEVENT
DTSTART;TZID=Australia/Sydney:20250531T110000
DTEND;TZID=Australia/Sydney:20250531T110000
DTSTAMP:20260421T011224
CREATED:20250322T230915Z
LAST-MODIFIED:20250323T042740Z
UID:10000217-1748689200-1748689200@sasc.com.au
SUMMARY:Winter Series 2025
DESCRIPTION:Just when you thought racing was over\, SASC introduces the Winter Series for 2025. \nThe first Winter Series Race is on the 3rd May\, with six races overall during May\, June and July. \nThere are four divisions catering for Classic/Mixed Keelboats and Spinnaker/Non Spinnaker options. \n\nEntry is on-line via SailSys: Enter Here\nWinter Series race documents are found: HERE\n\nAfter the race\, enjoy catching up with skippers and crew back at the clubhouse.  Hot food and beverages will be available from the bar before the prizegiving. \nContact David in the Sailing Office with any queries  02 9953 6597 – email racing@sasc.com.au
URL:https://sasc.com.au/event/winter-series-2025/2025-05-31/
LOCATION:Aust National Maritime Museum\, 1 Green Street\, Cremorne Point\, New South Wales\, 2090\, Australia
CATEGORIES:Racing
ATTACH;FMTTYPE=image/jpeg:https://sasc.com.au/wp-content/uploads/2024/10/interviews-3.jpg
ORGANIZER;CN="Racing":MAILTO:racing@sasc.com.au
END:VEVENT
BEGIN:VEVENT
DTSTART;TZID=Australia/Sydney:20250517T110000
DTEND;TZID=Australia/Sydney:20250517T110000
DTSTAMP:20260421T011224
CREATED:20250322T230915Z
LAST-MODIFIED:20250323T042740Z
UID:10000216-1747479600-1747479600@sasc.com.au
SUMMARY:Winter Series 2025
DESCRIPTION:Just when you thought racing was over\, SASC introduces the Winter Series for 2025. \nThe first Winter Series Race is on the 3rd May\, with six races overall during May\, June and July. \nThere are four divisions catering for Classic/Mixed Keelboats and Spinnaker/Non Spinnaker options. \n\nEntry is on-line via SailSys: Enter Here\nWinter Series race documents are found: HERE\n\nAfter the race\, enjoy catching up with skippers and crew back at the clubhouse.  Hot food and beverages will be available from the bar before the prizegiving. \nContact David in the Sailing Office with any queries  02 9953 6597 – email racing@sasc.com.au
URL:https://sasc.com.au/event/winter-series-2025/2025-05-17/
LOCATION:Aust National Maritime Museum\, 1 Green Street\, Cremorne Point\, New South Wales\, 2090\, Australia
CATEGORIES:Racing
ATTACH;FMTTYPE=image/jpeg:https://sasc.com.au/wp-content/uploads/2024/10/interviews-3.jpg
ORGANIZER;CN="Racing":MAILTO:racing@sasc.com.au
END:VEVENT
BEGIN:VEVENT
DTSTART;TZID=Australia/Sydney:20250503T110000
DTEND;TZID=Australia/Sydney:20250503T110000
DTSTAMP:20260421T011224
CREATED:20250322T230915Z
LAST-MODIFIED:20250323T042740Z
UID:10000215-1746270000-1746270000@sasc.com.au
SUMMARY:Winter Series 2025
DESCRIPTION:Just when you thought racing was over\, SASC introduces the Winter Series for 2025. \nThe first Winter Series Race is on the 3rd May\, with six races overall during May\, June and July. \nThere are four divisions catering for Classic/Mixed Keelboats and Spinnaker/Non Spinnaker options. \n\nEntry is on-line via SailSys: Enter Here\nWinter Series race documents are found: HERE\n\nAfter the race\, enjoy catching up with skippers and crew back at the clubhouse.  Hot food and beverages will be available from the bar before the prizegiving. \nContact David in the Sailing Office with any queries  02 9953 6597 – email racing@sasc.com.au
URL:https://sasc.com.au/event/winter-series-2025/2025-05-03/
LOCATION:Aust National Maritime Museum\, 1 Green Street\, Cremorne Point\, New South Wales\, 2090\, Australia
CATEGORIES:Racing
ATTACH;FMTTYPE=image/jpeg:https://sasc.com.au/wp-content/uploads/2024/10/interviews-3.jpg
ORGANIZER;CN="Racing":MAILTO:racing@sasc.com.au
END:VEVENT
END:VCALENDAR